BEGIN:VCALENDAR
VERSION:2.0
PRODID:-//SVP Riehen //NONSGML Events //EN
CALSCALE:GREGORIAN
X-WR-CALNAME:SVP Riehen
BEGIN:VEVENT
CREATED:20200107T093645Z
UID:1069
DTEND:20201124T000000
DTSTART:20201124T000000
DTSTAMP:20260422T181227Z
LOCATION:
DESCRIPTION:
SUMMARY:Vorstandssitzung
ORGANIZER:
URL;VALUE=URI:https://www.svp-riehen.ch/aktuell/termine/vorstandssitzung/
TRANSP:OPAQUE
END:VEVENT
END:VCALENDAR
