BEGIN:VCALENDAR
VERSION:2.0
PRODID:-//SVP Riehen //NONSGML Events //EN
CALSCALE:GREGORIAN
X-WR-CALNAME:SVP Riehen
BEGIN:VEVENT
CREATED:20200107T092554Z
UID:1082
DTEND:20200924T200000
DTSTART:20200924T193000
DTSTAMP:20260425T141149Z
LOCATION:Gemeindehaus\, Riehen
DESCRIPTION:
SUMMARY:Einwohnerrat Riehen
ORGANIZER:
URL;VALUE=URI:https://www.svp-riehen.ch/aktuell/termine/einwohnerrat-riehen-6/
TRANSP:OPAQUE
END:VEVENT
END:VCALENDAR
