BEGIN:VCALENDAR
VERSION:2.0
PRODID:-//SVP Riehen //NONSGML Events //EN
CALSCALE:GREGORIAN
X-WR-CALNAME:SVP Riehen
BEGIN:VEVENT
CREATED:20221230T131809Z
UID:1771
DTEND:20230927T000000
DTSTART:20230927T000000
DTSTAMP:20260422T221533Z
LOCATION:Gemeindehaus\, Riehen
DESCRIPTION:
SUMMARY:Einwohnerrat Riehen
ORGANIZER:
URL;VALUE=URI:https://www.svp-riehen.ch/aktuell/termine/einwohnerrat-riehen-14/
TRANSP:OPAQUE
END:VEVENT
END:VCALENDAR
