BEGIN:VCALENDAR
VERSION:2.0
PRODID:-//SVP Riehen //NONSGML Events //EN
CALSCALE:GREGORIAN
X-WR-CALNAME:SVP Riehen
BEGIN:VEVENT
CREATED:20221227T151407Z
UID:1783
DTEND:20231126T000000
DTSTART:20231126T000000
DTSTAMP:20260424T131956Z
LOCATION:
DESCRIPTION:
SUMMARY:Eidg. u. Kantonale Abstimmungen
ORGANIZER:
URL;VALUE=URI:https://www.svp-riehen.ch/aktuell/termine/eidg-u-kantonale-abstimmungen/
TRANSP:OPAQUE
END:VEVENT
END:VCALENDAR
