BEGIN:VCALENDAR
VERSION:2.0
PRODID:-//SVP Riehen //NONSGML Events //EN
CALSCALE:GREGORIAN
X-WR-CALNAME:SVP Riehen
BEGIN:VEVENT
CREATED:20231128T123323Z
UID:2122
DTEND:20241127T000000
DTSTART:20241127T000000
DTSTAMP:20260425T213506Z
LOCATION:Gemeindehaus\, Riehen
DESCRIPTION:
SUMMARY:Einwohnerrat
ORGANIZER:
URL;VALUE=URI:https://www.svp-riehen.ch/aktuell/termine/einwohnerrat-3/
TRANSP:OPAQUE
END:VEVENT
END:VCALENDAR
