BEGIN:VCALENDAR
VERSION:2.0
PRODID:-//SVP Riehen //NONSGML Events //EN
CALSCALE:GREGORIAN
X-WR-CALNAME:SVP Riehen
BEGIN:VEVENT
CREATED:20231128T123041Z
UID:2128
DTEND:20240529T000000
DTSTART:20240529T000000
DTSTAMP:20260422T001605Z
LOCATION:Gemeindehaus\, Riehen
DESCRIPTION:
SUMMARY:Einwohnerrat
ORGANIZER:
URL;VALUE=URI:https://www.svp-riehen.ch/aktuell/termine/einwohnerrat-9/
TRANSP:OPAQUE
END:VEVENT
END:VCALENDAR
